BEGIN:VCALENDAR
VERSION:2.0
PRODID:-//wp-events-plugin.com//7.2.3.1//EN
TZID:America/New_York
X-WR-TIMEZONE:America/New_York
BEGIN:VEVENT
UID:0-72@fjmc.org
DTSTART;TZID=America/New_York:20240320T210000
DTEND;TZID=America/New_York:20240320T220000
DTSTAMP:20240308T233404Z
URL:https://fjmc.org/events-2/jewish-genealogy-affinity-group/
SUMMARY:Jewish Genealogy Affinity Group
DESCRIPTION:Scroll Down to Register\n\n\nJewish Genealogy Affinity Group\np
 resents\nJewish Genealogy: Old Myths and New Science (DNA)\npresented by M
 ike Karsen\, Jewish Genealogist &amp\; Researcher\nWednesday\, March 20\, 
 2024\n9pm Eastern | 8pm Central | 6pm Pacific\n\nJewish Genealogy is an ev
 olving pursuit to discover who we are and where we came from. Many have he
 ard that you cannot do Jewish Genealogy which is based on myths. These myt
 hs include that our name was changed at Ellis Island and all of the record
 s have been destroyed. This presentation will dispel those myths so that y
 ou can pursue your family's history. The presentation goes on to present t
 he "new science" of DNA testing which is generating a new light to finding
  relatives.\nMike Karsen\, Jewish Genealogist &amp\; Researcher is an enga
 ging p[rofessional speaker. He is a member of the Association of Professio
 nal Genealogists (APG)\, the Genealogical Speakers Guild (GSG)\, and is Pa
 st President of the Jewish Genealogical Society of Illinois.\n\nMike's exp
 ertise spans over 20 years of actively working on Jewish Genealogy in Chic
 agoland. He has spoken at most of the major Jewish Organizations in Chicag
 oland and at the International Conferences (IAJGS) on Jewish Genealogy. He
  has published a website “Guide to Jewish Genealogy in Chicagoland” on
  JewishGen.\n\n&nbsp\;\n\n&nbsp\;\n\n\n\n\nFJMC Webinars are offered free
  of charge to our members and guests. To help defray the administrative co
 sts of this program\, please consider making a donation to FJMC in honor
  of “Webinar Kudos.”\nAll Upcoming Online Events\n&amp\; All Previous
  Programs on YouTube\nFJMC Home\nNote: Zoom now offers automated Zoom clos
 ed captioning.\nInstructions will be in your confirmation email.\nIf you a
 re already a member of FJMC\, please login to auto-fill your form fields.\
 n\n\n\n\n\n[ninja_form id=19]\n\n\n\n\n\n\n\n\n\n\n\n\n\n\n\n\n\n\n\n\n\n\
 n\n\n
CATEGORIES:Jewish Genealogy Affinity Group
END:VEVENT
BEGIN:VTIMEZONE
TZID:America/New_York
X-LIC-LOCATION:America/New_York
BEGIN:DAYLIGHT
DTSTART:20240310T030000
TZOFFSETFROM:-0500
TZOFFSETTO:-0400
TZNAME:EDT
END:DAYLIGHT
END:VTIMEZONE
END:VCALENDAR