BEGIN:VCALENDAR
VERSION:2.0
PRODID:-//wp-events-plugin.com//7.2.3.1//EN
TZID:America/New_York
X-WR-TIMEZONE:America/New_York
BEGIN:VEVENT
UID:0-307@fjmc.org
DTSTART;TZID=America/New_York:20241211T200000
DTEND;TZID=America/New_York:20241211T210000
DTSTAMP:20241030T040355Z
URL:https://fjmc.org/events-2/minyan/
SUMMARY:Minyan of Comfort Webinar
DESCRIPTION:[ninja_form id=43]\n\n\n\n\n\n\n\n\n
CATEGORIES:FJMC Program/Initiative Training
END:VEVENT
BEGIN:VTIMEZONE
TZID:America/New_York
X-LIC-LOCATION:America/New_York
BEGIN:STANDARD
DTSTART:20241103T010000
TZOFFSETFROM:-0400
TZOFFSETTO:-0500
TZNAME:EST
END:STANDARD
END:VTIMEZONE
END:VCALENDAR