BEGIN:VCALENDAR
VERSION:2.0
PRODID:-//wp-events-plugin.com//7.2.3.1//EN
TZID:America/New_York
X-WR-TIMEZONE:America/New_York
BEGIN:VEVENT
UID:0-358@fjmc.org
DTSTART;TZID=America/New_York:20250625T200000
DTEND;TZID=America/New_York:20250625T210000
DTSTAMP:20250516T144254Z
URL:https://fjmc.org/events-2/pastrami-on-rye/
SUMMARY:Corned Beef and Camaraderie: The History of the Jewish Deli in Chic
 ago
DESCRIPTION:Scroll Down to Register\n\n\nCorned Beef and Camaraderie:\nThe 
 History of the Jewish Deli in Chicago\npresented by Ted Merwin\nWednesday\
 , June 25\, 2025\n8:00pm Eastern / 5pm Pacific\nTed Merwin\, Ph.D.\, Senio
 r Writer for the Jewish Federations of North America (JFNA)\, author of th
 e National Jewish Book Award-winning book\, Pastrami on Rye: An Overstuff
 ed History of the Jewish Deli\, and long-time collector of Chicago deli me
 morabilia\, will trace the fascinating\, untold history of the delis of Ch
 icago. This entertaining\, multimedia presentation features clips from fil
 ms\, TV\, music\, and stand-up comedy routines that demonstrate the centra
 l place of the deli in the Jewish community in Chicagoland from the immigr
 ant generation to the present. This talk draws on decades of archival rese
 arch and avid collecting of menus\, vintage photos\, neon signs\, and ligh
 t-up clocks from now-shuttered Chicago delis in both the city and suburbs.
 \n\n\n\n\n\n\n\n[ninja_form id=66]\n\n\n\n\n\n\n\n\n\n\n\n\n\n\n\n\n\n\n\n
 \n\n\n\n\n\n\n\n\n\n\n\n\n\n\n\n\n\n\n\n\n\n
CATEGORIES:FJMC Webinars
END:VEVENT
BEGIN:VTIMEZONE
TZID:America/New_York
X-LIC-LOCATION:America/New_York
BEGIN:DAYLIGHT
DTSTART:20250309T030000
TZOFFSETFROM:-0500
TZOFFSETTO:-0400
TZNAME:EDT
END:DAYLIGHT
END:VTIMEZONE
END:VCALENDAR