BEGIN:VCALENDAR
VERSION:2.0
PRODID:-//wp-events-plugin.com//7.2.3.1//EN
TZID:America/New_York
X-WR-TIMEZONE:America/New_York
BEGIN:VEVENT
UID:0-315@fjmc.org
DTSTART;TZID=America/New_York:20250109T210000
DTEND;TZID=America/New_York:20250109T220000
DTSTAMP:20241220T030136Z
URL:https://fjmc.org/events-2/taste_of_fjmc_1-9-2025/
SUMMARY:A Taste of FJMC Webinar
DESCRIPTION:Scroll Down to Register\n\nA TASTE OF FJMC\nLet's Work Together
  To Build For A Stronger Tomorrow!\n\npresented by\nFJMC Expanding Clubs &
 amp\; Membership Initiative\nThursday\, January 9\, 2025\n9pm EST | 8pm CS
 T | 6pm PST\n\nAs part of the continuation of our “Taste of the FJMC” 
 program series\, we are looking to open a dialogue with a round table disc
 ussion to both share on the work of our organization and most significantl
 y listen to you to discover on how best we can collaborate together to str
 ongly support your club\, congregation and vitally our overall Jewish comm
 unity. The FJMC is the largest organization supporting Jewish men worldwi
 de. We offer highly supportive\, engaging and beneficial programming and a
 ctivities that appeal to a wide range of Jewish men.\nAfter submitting thi
 s form\, you will receive an automatic confirmation email with theZoom lin
 k. If you have not received it after 10 minutes\, please check your Spam f
 olders. If you still have not received your confirmation\, please contact 
 either of us\, by clicking our names below\, to have a new one sent to you
 .\nDo you have questions before the webinar? Feel free to contact us anyti
 me.\nWe look forward to meeting you on January 9th and beginning the dialo
 gue towards working together to build for a stronger tomorrow.\nIn Brother
 hood\,\nDanny Mandeau\, Chair\nLester Shapiro\, Asst. Chair\nExpanding Clu
 bs &amp\; Membership Initiative\n\n\n\n[ninja_form id=21]\n\n&nbsp\;\n\n&n
 bsp\;\n\n&nbsp\;\n\n&nbsp\;\n\n&nbsp\;\n\n&nbsp\;\n\n\n\n\n\n\n\n\n\n\n\n\
 n\n\n\n\n\n\n\n\n\n\n\n\n\n\n\n\n\n
CATEGORIES:A Taste of FJMC
END:VEVENT
BEGIN:VTIMEZONE
TZID:America/New_York
X-LIC-LOCATION:America/New_York
BEGIN:STANDARD
DTSTART:20241103T010000
TZOFFSETFROM:-0400
TZOFFSETTO:-0500
TZNAME:EST
END:STANDARD
END:VTIMEZONE
END:VCALENDAR