BEGIN:VCALENDAR
VERSION:2.0
PRODID:-//wp-events-plugin.com//7.2.3.1//EN
TZID:America/New_York
X-WR-TIMEZONE:America/New_York
BEGIN:VEVENT
UID:0-359@fjmc.org
DTSTART;TZID=America/New_York:20250513T200000
DTEND;TZID=America/New_York:20250513T210000
DTSTAMP:20250513T151155Z
URL:https://fjmc.org/events-2/u-s-military-and-antisemitism/
SUMMARY:Antisemitism and its Effect on US Military Morale and Readiness
DESCRIPTION:Scroll Down for Registration Form\n\npresents:\nAntisemitism an
 d its Effect on US Military Morale and Readiness\nSpeaker: USN Captain Mar
 c Liebman\, (Ret)\nTuesday\, May 13\, 2025\n8pm Eastern | 5pm Pacific\n\nW
 hile anti-Semitism exists both in the mind and the actual words and action
 s of some members of the U.S. Armed Forces\, what these bad actors do not 
 realize is how their views impact their unit’s morale and readiness. It 
 also weakens each members’ trust in the command structure and ultimately
  puts everyone\,\nthe anti-Semites included\, at risk.\nMarc Liebman\, Cit
 izen Sailor\, Businessman and Author.\n\nMarc is a combat veteran of Vietn
 am\, the Tanker Wars of the 1980s and Desert Shield/Storm who retired from
  the Navy as a Captain after 26 years of service. He is a Naval Aviator wi
 th over 6\,000 hours of flight time in helicopters and fixed wing aircraft
  and has been the CEO of a $50M aerospace and defense contractor as well a
 s a partner in a boutique consulting firm.\n\nNow Marc is an award-winning
  novelist and public speaker. Six of his 18 novels have become Amazon #1 B
 est Sellers. Marc speaks on American history from the American Revolution 
 to the War of 1812 as well as selected topics on aviation\, foreign affair
 s\, anti-Semitism\, and leadership. The Liebmans live in Aubrey\, TX.\n\n\
 n&nbsp\;\n\n&nbsp\;\n\n\n\nLearn more about combating antisemitism\nand to
  view our previous presentations:\nFJMC Combating Antisemitism Initiative 
 Web Page \n\n\n\n\n[ninja_form id='67']\n\n\n\n\n\n\n\n\n\n\n\n
CATEGORIES:Combating Antisemitism
END:VEVENT
BEGIN:VTIMEZONE
TZID:America/New_York
X-LIC-LOCATION:America/New_York
BEGIN:DAYLIGHT
DTSTART:20250309T030000
TZOFFSETFROM:-0500
TZOFFSETTO:-0400
TZNAME:EDT
END:DAYLIGHT
END:VTIMEZONE
END:VCALENDAR